<TileMap version="1.0.0" tilemapservice="https://geoportal.freiburg.de/mapcache/tms/1.0.0/"><Title>Stadtkarte</Title><Abstract>Stadtkarte s/w</Abstract><SRS>EPSG:25832</SRS><BoundingBox minx="399550.000000" miny="5305350.000000" maxx="420740.000000" maxy="5325690.000000"></BoundingBox><Origin x="399550.000000" y="5305350.000000"></Origin><TileFormat width="256" height="256" mime-type="image/png" extension="png"></TileFormat><TileSets><TileSet href="https://geoportal.freiburg.de/mapcache/tms/1.0.0/stadtkarte@EPSG_25832_FR/0" units-per-pixel="1638.40000000000009094947" order="0"></TileSet><TileSet href="https://geoportal.freiburg.de/mapcache/tms/1.0.0/stadtkarte@EPSG_25832_FR/1" units-per-pixel="819.20000000000004547474" order="1"></TileSet><TileSet href="https://geoportal.freiburg.de/mapcache/tms/1.0.0/stadtkarte@EPSG_25832_FR/2" units-per-pixel="409.60000000000002273737" order="2"></TileSet><TileSet href="https://geoportal.freiburg.de/mapcache/tms/1.0.0/stadtkarte@EPSG_25832_FR/3" units-per-pixel="204.80000000000001136868" order="3"></TileSet><TileSet href="https://geoportal.freiburg.de/mapcache/tms/1.0.0/stadtkarte@EPSG_25832_FR/4" units-per-pixel="102.40000000000000568434" order="4"></TileSet><TileSet href="https://geoportal.freiburg.de/mapcache/tms/1.0.0/stadtkarte@EPSG_25832_FR/5" units-per-pixel="51.20000000000000284217" order="5"></TileSet><TileSet href="https://geoportal.freiburg.de/mapcache/tms/1.0.0/stadtkarte@EPSG_25832_FR/6" units-per-pixel="25.60000000000000142109" order="6"></TileSet><TileSet href="https://geoportal.freiburg.de/mapcache/tms/1.0.0/stadtkarte@EPSG_25832_FR/7" units-per-pixel="12.80000000000000071054" order="7"></TileSet><TileSet href="https://geoportal.freiburg.de/mapcache/tms/1.0.0/stadtkarte@EPSG_25832_FR/8" units-per-pixel="6.40000000000000035527" order="8"></TileSet><TileSet href="https://geoportal.freiburg.de/mapcache/tms/1.0.0/stadtkarte@EPSG_25832_FR/9" units-per-pixel="3.20000000000000017764" order="9"></TileSet><TileSet href="https://geoportal.freiburg.de/mapcache/tms/1.0.0/stadtkarte@EPSG_25832_FR/10" units-per-pixel="1.60000000000000008882" order="10"></TileSet><TileSet href="https://geoportal.freiburg.de/mapcache/tms/1.0.0/stadtkarte@EPSG_25832_FR/11" units-per-pixel="0.80000000000000000000" order="11"></TileSet><TileSet href="https://geoportal.freiburg.de/mapcache/tms/1.0.0/stadtkarte@EPSG_25832_FR/12" units-per-pixel="0.40000000000000000000" order="12"></TileSet><TileSet href="https://geoportal.freiburg.de/mapcache/tms/1.0.0/stadtkarte@EPSG_25832_FR/13" units-per-pixel="0.20000000000000000000" order="13"></TileSet><TileSet href="https://geoportal.freiburg.de/mapcache/tms/1.0.0/stadtkarte@EPSG_25832_FR/14" units-per-pixel="0.10000000000000000000" order="14"></TileSet><TileSet href="https://geoportal.freiburg.de/mapcache/tms/1.0.0/stadtkarte@EPSG_25832_FR/15" units-per-pixel="0.05000000000000000000" order="15"></TileSet></TileSets></TileMap>